BEGIN:VCALENDAR
VERSION:2.0
PRODID:-//Elmwood Park Zoo - ECPv6.15.20//NONSGML v1.0//EN
CALSCALE:GREGORIAN
METHOD:PUBLISH
X-WR-CALNAME:Elmwood Park Zoo
X-ORIGINAL-URL:https://elmwoodparkzoo.org
X-WR-CALDESC:Events for Elmwood Park Zoo
REFRESH-INTERVAL;VALUE=DURATION:PT1H
X-Robots-Tag:noindex
X-PUBLISHED-TTL:PT1H
BEGIN:VTIMEZONE
TZID:America/New_York
BEGIN:DAYLIGHT
TZOFFSETFROM:-0500
TZOFFSETTO:-0400
TZNAME:EDT
DTSTART:20250309T070000
END:DAYLIGHT
BEGIN:STANDARD
TZOFFSETFROM:-0400
TZOFFSETTO:-0500
TZNAME:EST
DTSTART:20251102T060000
END:STANDARD
BEGIN:DAYLIGHT
TZOFFSETFROM:-0500
TZOFFSETTO:-0400
TZNAME:EDT
DTSTART:20260308T070000
END:DAYLIGHT
BEGIN:STANDARD
TZOFFSETFROM:-0400
TZOFFSETTO:-0500
TZNAME:EST
DTSTART:20261101T060000
END:STANDARD
BEGIN:DAYLIGHT
TZOFFSETFROM:-0500
TZOFFSETTO:-0400
TZNAME:EDT
DTSTART:20270314T070000
END:DAYLIGHT
BEGIN:STANDARD
TZOFFSETFROM:-0400
TZOFFSETTO:-0500
TZNAME:EST
DTSTART:20271107T060000
END:STANDARD
END:VTIMEZONE
BEGIN:VEVENT
DTSTART;TZID=America/New_York:20260502T190000
DTEND;TZID=America/New_York:20260502T210000
DTSTAMP:20260420T061114
CREATED:20260401T193134Z
LAST-MODIFIED:20260415T173010Z
UID:51260-1777748400-1777755600@elmwoodparkzoo.org
SUMMARY:Drive-In Zoovies: The Sandlot
DESCRIPTION:“You’re killing me\, smalls!”\nWe’re hosting a series of special drive-in movie screenings in the Zoo’s parking lot! Our May Drive-In Zoovie is The Sandlot.  \nSee below for tickets and details. \nPURCHASE TICKETS\n  \nZoovies | The Sandlot (1993) | 1hr 41m | Rated PG\nMay 2 | 7:00 PM – Parking Lot Opens | 8:00 PM – Film Begins\n\n  \nTickets and Info*\nAdult Guest | $15 per adult \nChild Guest | $12 per child \n  \n* Guests must indicate how many cars they are bringing when purchasing tickets. Tickets are required for each guest (adult and child) attending. The parking lot will be open at 7 PM\, and the film will begin at 8 PM. \nOur drive-in screenings are held in the former softball field section of the Zoo’s parking lot. Concessions will be available for purchase during the film. In the event of inclement weather\, all ticket holders will be notified if a screening is canceled or rescheduled 2 weeks prior to the event. The radio station frequency broadcasting the film’s audio to cars will be provided to ticket holders in advance of the event. \n  \nPURCHASE TICKETS\n  \nAbout the Film\nIn the summer of 1962\, a new kid in town is taken under the wing of a young baseball prodigy and his rowdy team\, resulting in many adventures. Watch the trailer.
URL:https://elmwoodparkzoo.org/event/drive-in-zoovies-the-sandlot/
ATTACH;FMTTYPE=image/png:https://elmwoodparkzoo.org/wp-content/uploads/2026/04/Untitled-design-33.png
END:VEVENT
BEGIN:VEVENT
DTSTART;TZID=America/New_York:20260731T190000
DTEND;TZID=America/New_York:20260731T220000
DTSTAMP:20260420T061114
CREATED:20260410T155431Z
LAST-MODIFIED:20260410T155431Z
UID:51747-1785524400-1785535200@elmwoodparkzoo.org
SUMMARY:Drive-In Zoovies: The Goonies
DESCRIPTION:“Goonies never say die!”\nWe’re hosting a series of special drive-in movie screenings in the Zoo’s parking lot! Our July Drive-In Zoovie is The Sandlot.  \nSee below for tickets and details. \nTICKETS AVAILABLE SOON\n  \nZoovies | The Goonies (1985) | 1hr 54m | Rated PG\nJuly 31 | 7:00 PM – Parking Lot Opens | 8:00 PM – Film Begins\n\n  \nTickets and Info*\nAdult Guest | $15 per adult \nChild Guest | $12 per child \n  \n* Guests must indicate how many cars they are bringing when purchasing tickets. Tickets are required for each guest (adult and child) attending. The parking lot will be open at 7 PM\, and the film will begin at 8 PM. \nOur drive-in screenings are held in the former softball field section of the Zoo’s parking lot. Concessions will be available for purchase during the film. In the event of inclement weather\, all ticket holders will be notified if a screening is canceled or rescheduled 2 weeks prior to the event. The radio station frequency broadcasting the film’s audio to cars will be provided to ticket holders in advance of the event. \n  \nTICKETS AVAILABLE SOON\n  \nAbout the Film\nA group of young misfits called The Goonies discover an ancient map and set out on an adventure to find a legendary pirate’s long-lost treasure. Watch the trailer.
URL:https://elmwoodparkzoo.org/event/drive-in-zoovies-the-goonies/
ATTACH;FMTTYPE=image/png:https://elmwoodparkzoo.org/wp-content/uploads/2026/04/Untitled-design-34.png
END:VEVENT
BEGIN:VEVENT
DTSTART;TZID=America/New_York:20260828T190000
DTEND;TZID=America/New_York:20260828T220000
DTSTAMP:20260420T061114
CREATED:20260410T160459Z
LAST-MODIFIED:20260410T160459Z
UID:51756-1787943600-1787954400@elmwoodparkzoo.org
SUMMARY:Drive-In Zoovies: Jumanji (1995)
DESCRIPTION:“You don’t even know what afraid is.”\nWe’re hosting a series of special drive-in movie screenings in the Zoo’s parking lot! Our August Drive-In Zoovie is Jumanji (1995).  \nSee below for tickets and details. \nTICKETS AVAILABLE SOON\n  \nZoovies | Jumanji (1995) | 1hr 44m | Rated PG\nAugust 28 | 7:00 PM – Parking Lot Opens | 8:00 PM – Film Begins\n\n  \nTickets and Info*\nAdult Guest | $15 per adult \nChild Guest | $12 per child \n  \n* Guests must indicate how many cars they are bringing when purchasing tickets. Tickets are required for each guest (adult and child) attending. The parking lot will be open at 7 PM\, and the film will begin at 8 PM. \nOur drive-in screenings are held in the former softball field section of the Zoo’s parking lot. Concessions will be available for purchase during the film. In the event of inclement weather\, all ticket holders will be notified if a screening is canceled or rescheduled 2 weeks prior to the event. The radio station frequency broadcasting the film’s audio to cars will be provided to ticket holders in advance of the event. \n  \nTICKETS AVAILABLE SOON\n  \nAbout the Film\nA magic board game summons jungle perils and a missing boy. Watch the trailer.
URL:https://elmwoodparkzoo.org/event/drive-in-zoovies-jumanji-1995/
ATTACH;FMTTYPE=image/png:https://elmwoodparkzoo.org/wp-content/uploads/2026/04/Untitled-design-35.png
END:VEVENT
BEGIN:VEVENT
DTSTART;TZID=America/New_York:20260918T190000
DTEND;TZID=America/New_York:20260918T220000
DTSTAMP:20260420T061114
CREATED:20260411T135517Z
LAST-MODIFIED:20260411T135517Z
UID:51798-1789758000-1789768800@elmwoodparkzoo.org
SUMMARY:Drive-In Zoovies: E.T. the Extra-Terrestrial
DESCRIPTION:“E.T. phone home.”\nWe’re hosting a series of special drive-in movie screenings in the Zoo’s parking lot! Our September Drive-In Zoovie is E.T. the Extra-Terrestrial. \nSee below for tickets and details. \nTICKETS AVAILABLE SOON\n\nZoovies | E.T. the Extra-Terrestrial (1982) | 1hr 55m | Rated PG\nSeptember 18 | 7:00 PM – Parking Lot Opens | 8:00 PM – Film Begins\n\n\nTickets and Info*\nAdult Guest | $15 per adult \nChild Guest | $12 per child \n\n* Guests must indicate how many cars they are bringing when purchasing tickets. Tickets are required for each guest (adult and child) attending. The parking lot will be open at 7 PM\, and the film will begin at 8 PM. \nOur drive-in screenings are held in the former softball field section of the Zoo’s parking lot. Concessions will be available for purchase during the film. In the event of inclement weather\, all ticket holders will be notified if a screening is canceled or rescheduled 2 weeks prior to the event. The radio station frequency broadcasting the film’s audio to cars will be provided to ticket holders in advance of the event. \n\nTICKETS AVAILABLE SOON\n\nAbout the Film\nA magic board game summons jungle perils and a missing boy. Watch the trailer.
URL:https://elmwoodparkzoo.org/event/drive-in-zoovies-e-t-the-extra-terrestrial/
ATTACH;FMTTYPE=image/png:https://elmwoodparkzoo.org/wp-content/uploads/2026/04/Untitled-design-36.png
END:VEVENT
BEGIN:VEVENT
DTSTART;TZID=America/New_York:20261003T190000
DTEND;TZID=America/New_York:20261003T220000
DTSTAMP:20260420T061114
CREATED:20260411T140008Z
LAST-MODIFIED:20260411T140104Z
UID:51803-1791054000-1791064800@elmwoodparkzoo.org
SUMMARY:Drive-In Zoovies: Hocus Pocus
DESCRIPTION:“Oh\, look. Another glorious morning. Makes me sick!”\nWe’re hosting a series of special drive-in movie screenings in the Zoo’s parking lot! Our first Drive-In Zoovie in October is Hocus Pocus (1993). \nSee below for tickets and details. \nTICKETS AVAILABLE SOON\nZoovies | Hocus Pocus (1993) | 1hr 36m | Rated PG\nOctober 3 | 7:00 PM – Parking Lot Opens | 8:00 PM – Film Begins\n\nTickets and Info*\nAdult Guest | $15 per adult \nChild Guest | $12 per child \n* Guests must indicate how many cars they are bringing when purchasing tickets. Tickets are required for each guest (adult and child) attending. The parking lot will be open at 7 PM\, and the film will begin at 8 PM. \nOur drive-in screenings are held in the former softball field section of the Zoo’s parking lot. Concessions will be available for purchase during the film. In the event of inclement weather\, all ticket holders will be notified if a screening is canceled or rescheduled 2 weeks prior to the event. The radio station frequency broadcasting the film’s audio to cars will be provided to ticket holders in advance of the event. \nTICKETS AVAILABLE SOON\nAbout the Film\nA teenage boy named Max and his little sister move to Salem\, where he struggles to fit in before awakening a trio of diabolical witches who were executed in the 17th century. Watch the trailer.
URL:https://elmwoodparkzoo.org/event/drive-in-zoovies-hocus-pocus/
ATTACH;FMTTYPE=image/png:https://elmwoodparkzoo.org/wp-content/uploads/2026/04/Untitled-design-37.png
END:VEVENT
BEGIN:VEVENT
DTSTART;TZID=America/New_York:20261017T190000
DTEND;TZID=America/New_York:20261017T220000
DTSTAMP:20260420T061114
CREATED:20260411T140657Z
LAST-MODIFIED:20260411T140657Z
UID:51806-1792263600-1792274400@elmwoodparkzoo.org
SUMMARY:Drive-In Zoovies: Hocus Pocus 2
DESCRIPTION:“Lock up your children! Yes\, Salem\, we’re back!” \nWe’re hosting a series of special drive-in movie screenings in the Zoo’s parking lot! Our second October Drive-In Zoovie is Hocus Pocus (2022). \nSee below for tickets and details. \nTICKETS AVAILABLE SOON\n\nZoovies | Hocus Pocus 2 (2022) | 1hr 43m | Rated PG\nOctober 17 | 7:00 PM – Parking Lot Opens | 8:00 PM – Film Begins\n\n\nTickets and Info*\nAdult Guest | $15 per adult \nChild Guest | $12 per child \n\n* Guests must indicate how many cars they are bringing when purchasing tickets. Tickets are required for each guest (adult and child) attending. The parking lot will be open at 7 PM\, and the film will begin at 8 PM. \nOur drive-in screenings are held in the former softball field section of the Zoo’s parking lot. Concessions will be available for purchase during the film. In the event of inclement weather\, all ticket holders will be notified if a screening is canceled or rescheduled 2 weeks prior to the event. The radio station frequency broadcasting the film’s audio to cars will be provided to ticket holders in advance of the event. \n\nTICKETS AVAILABLE SOON\n\nAbout the Film\nTwo young women accidentally bring back the Sanderson Sisters to modern-day Salem and must figure out how to stop the child-hungry witches from wreaking havoc on the world.  \nWatch the trailer.
URL:https://elmwoodparkzoo.org/event/drive-in-zoovies-hocus-pocus-2/
ATTACH;FMTTYPE=image/png:https://elmwoodparkzoo.org/wp-content/uploads/2026/04/Untitled-design-38.png
END:VEVENT
END:VCALENDAR