BEGIN:VCALENDAR
VERSION:2.0
PRODID:-//Elmwood Park Zoo - ECPv6.15.20//NONSGML v1.0//EN
CALSCALE:GREGORIAN
METHOD:PUBLISH
X-ORIGINAL-URL:https://elmwoodparkzoo.org
X-WR-CALDESC:Events for Elmwood Park Zoo
REFRESH-INTERVAL;VALUE=DURATION:PT1H
X-Robots-Tag:noindex
X-PUBLISHED-TTL:PT1H
BEGIN:VTIMEZONE
TZID:America/New_York
BEGIN:DAYLIGHT
TZOFFSETFROM:-0500
TZOFFSETTO:-0400
TZNAME:EDT
DTSTART:20250309T070000
END:DAYLIGHT
BEGIN:STANDARD
TZOFFSETFROM:-0400
TZOFFSETTO:-0500
TZNAME:EST
DTSTART:20251102T060000
END:STANDARD
BEGIN:DAYLIGHT
TZOFFSETFROM:-0500
TZOFFSETTO:-0400
TZNAME:EDT
DTSTART:20260308T070000
END:DAYLIGHT
BEGIN:STANDARD
TZOFFSETFROM:-0400
TZOFFSETTO:-0500
TZNAME:EST
DTSTART:20261101T060000
END:STANDARD
BEGIN:DAYLIGHT
TZOFFSETFROM:-0500
TZOFFSETTO:-0400
TZNAME:EDT
DTSTART:20270314T070000
END:DAYLIGHT
BEGIN:STANDARD
TZOFFSETFROM:-0400
TZOFFSETTO:-0500
TZNAME:EST
DTSTART:20271107T060000
END:STANDARD
END:VTIMEZONE
BEGIN:VEVENT
DTSTART;TZID=America/New_York:20260621T100000
DTEND;TZID=America/New_York:20260621T170000
DTSTAMP:20260421T041217
CREATED:20260416T165005Z
LAST-MODIFIED:20260417T183801Z
UID:52153-1782036000-1782061200@elmwoodparkzoo.org
SUMMARY:Father's Day
DESCRIPTION:🏁 Rev up your Father’s Day plans at Elmwood Park Zoo on June 21! 🏁\nFather’s Day Event Details\nFree admission for dad \nBar specials at Zoo Brew \nParticipate or watch the Elmwood Derby! (See below for details) \n  \n\n\n\n\n\n\nElmwood Derby\n11 AM – 4 PM | Canopy Gardens Hall | Hosted by Cub Pack 416\n \nDesign\, build\, and race your own custom car\, or just cheer on the competition\, in races that speed down the track all afternoon. \nA $10 per racer registration fee is required to race in the Derby. Bring your own pinewood car or purchase a kit from the Zoo and customize it before the event. Kits will be available for pick up at check-in during regular Zoo operating hours; please have your purchase receipt available. \n  \nNON-MEMBER REGISTRATION\n  \nMEMBER REGISTRATION\n\n\n\n 
URL:https://elmwoodparkzoo.org/event/fathers-day-2/
CATEGORIES:Free admission,Free with Paid Zoo Admission,Scouting
ATTACH;FMTTYPE=image/jpeg:https://elmwoodparkzoo.org/wp-content/uploads/2023/06/1920x1080FathersDay.jpg
END:VEVENT
END:VCALENDAR