BEGIN:VCALENDAR
VERSION:2.0
PRODID:-//Elmwood Park Zoo - ECPv6.15.20//NONSGML v1.0//EN
CALSCALE:GREGORIAN
METHOD:PUBLISH
X-WR-CALNAME:Elmwood Park Zoo
X-ORIGINAL-URL:https://elmwoodparkzoo.org
X-WR-CALDESC:Events for Elmwood Park Zoo
REFRESH-INTERVAL;VALUE=DURATION:PT1H
X-Robots-Tag:noindex
X-PUBLISHED-TTL:PT1H
BEGIN:VTIMEZONE
TZID:America/New_York
BEGIN:DAYLIGHT
TZOFFSETFROM:-0500
TZOFFSETTO:-0400
TZNAME:EDT
DTSTART:20250309T070000
END:DAYLIGHT
BEGIN:STANDARD
TZOFFSETFROM:-0400
TZOFFSETTO:-0500
TZNAME:EST
DTSTART:20251102T060000
END:STANDARD
BEGIN:DAYLIGHT
TZOFFSETFROM:-0500
TZOFFSETTO:-0400
TZNAME:EDT
DTSTART:20260308T070000
END:DAYLIGHT
BEGIN:STANDARD
TZOFFSETFROM:-0400
TZOFFSETTO:-0500
TZNAME:EST
DTSTART:20261101T060000
END:STANDARD
BEGIN:DAYLIGHT
TZOFFSETFROM:-0500
TZOFFSETTO:-0400
TZNAME:EDT
DTSTART:20270314T070000
END:DAYLIGHT
BEGIN:STANDARD
TZOFFSETFROM:-0400
TZOFFSETTO:-0500
TZNAME:EST
DTSTART:20271107T060000
END:STANDARD
END:VTIMEZONE
BEGIN:VEVENT
DTSTART;TZID=America/New_York:20260807T180000
DTEND;TZID=America/New_York:20260807T210000
DTSTAMP:20260420T075823
CREATED:20260217T180306Z
LAST-MODIFIED:20260217T180306Z
UID:41012-1786125600-1786136400@elmwoodparkzoo.org
SUMMARY:Wine Safari
DESCRIPTION:FRIDAY\, AUG. 7 | 6:00 PM – 9:00 PM\n\n\n\n\n\n\n\nMORE DETAILS AND TICKETS\n\n\n\n\n\n\n\n\n\nElmwood Park Zoo’s Wine Safari presented by KeyBank samples dozens of wines to hundreds of guests. Specially curated seasonal reds\, whites\, and rosés accompany our furred\, feathered\, and scaled friends at this wildly fantastic fundraiser. \nRain or Shine. Ages 21+ only.
URL:https://elmwoodparkzoo.org/event/wine-safari/
CATEGORIES:21 and over,Fundraiser,Ticketed Events
ATTACH;FMTTYPE=image/jpeg:https://elmwoodparkzoo.org/wp-content/uploads/2026/02/wine-safari-splash-scaled.jpg
END:VEVENT
BEGIN:VEVENT
DTSTART;TZID=America/New_York:20261008T180000
DTEND;TZID=America/New_York:20261008T210000
DTSTAMP:20260420T075823
CREATED:20260217T170555Z
LAST-MODIFIED:20260217T174334Z
UID:49162-1791482400-1791493200@elmwoodparkzoo.org
SUMMARY:Beast of a Feast
DESCRIPTION:THURSDAY\, OCT. 8 | 6:00 PM – 9:00 PM\n\n\n\n\n\n\n\n  \nMORE DETAILS AND TICKETS\n\n\n\n\n\n\n\n\n\nFeast on all-you-can-eat-and-drink samples from dozens of Montgomery County’s favorite flavor purveyors on Thursday\, October 8\, from 6 – 9 PM.  \nRain or Shine. Ages 21+ only.
URL:https://elmwoodparkzoo.org/event/beast-of-a-feast/
CATEGORIES:21 and over,Fundraiser,Ticketed Events
ATTACH;FMTTYPE=image/jpeg:https://elmwoodparkzoo.org/wp-content/uploads/2026/02/GettyImages-157431620-scaled.jpg
END:VEVENT
END:VCALENDAR