BEGIN:VCALENDAR
VERSION:2.0
PRODID:-//Elmwood Park Zoo - ECPv6.15.20//NONSGML v1.0//EN
CALSCALE:GREGORIAN
METHOD:PUBLISH
X-WR-CALNAME:Elmwood Park Zoo
X-ORIGINAL-URL:https://elmwoodparkzoo.org
X-WR-CALDESC:Events for Elmwood Park Zoo
REFRESH-INTERVAL;VALUE=DURATION:PT1H
X-Robots-Tag:noindex
X-PUBLISHED-TTL:PT1H
BEGIN:VTIMEZONE
TZID:America/New_York
BEGIN:DAYLIGHT
TZOFFSETFROM:-0500
TZOFFSETTO:-0400
TZNAME:EDT
DTSTART:20250309T070000
END:DAYLIGHT
BEGIN:STANDARD
TZOFFSETFROM:-0400
TZOFFSETTO:-0500
TZNAME:EST
DTSTART:20251102T060000
END:STANDARD
BEGIN:DAYLIGHT
TZOFFSETFROM:-0500
TZOFFSETTO:-0400
TZNAME:EDT
DTSTART:20260308T070000
END:DAYLIGHT
BEGIN:STANDARD
TZOFFSETFROM:-0400
TZOFFSETTO:-0500
TZNAME:EST
DTSTART:20261101T060000
END:STANDARD
BEGIN:DAYLIGHT
TZOFFSETFROM:-0500
TZOFFSETTO:-0400
TZNAME:EDT
DTSTART:20270314T070000
END:DAYLIGHT
BEGIN:STANDARD
TZOFFSETFROM:-0400
TZOFFSETTO:-0500
TZNAME:EST
DTSTART:20271107T060000
END:STANDARD
END:VTIMEZONE
BEGIN:VEVENT
DTSTART;TZID=America/New_York:20260506T090000
DTEND;TZID=America/New_York:20260506T100000
DTSTAMP:20260419T190737
CREATED:20200124T145957Z
LAST-MODIFIED:20260320T033516Z
UID:47586-1778058000-1778061600@elmwoodparkzoo.org
SUMMARY:Member Mornings PLUS
DESCRIPTION:Rise and shine!\n\nOn the first Wednesday of each month\, members can enjoy early admission to the Zoo with a special early-morning giraffe feeding. See below for details on Member Morning Plus.\n  \nMember Morning PLUS Highlights:\nGiraffe Feeding: Depending on the time of year\, participate in a giraffe feeding during your visit. Tickets are $4 per person and are available for purchase at the exhibit inside the Savanna Station pavilion. Giraffe feedings are available only when temperatures are above 55°F. \nBring a Guest for Free: All membership levels include one additional guest for Member Mornings Plus—free of charge! \n  \nImportant Details:\nNo Pre-Registration Required: Simply present a valid photo ID and your current membership card upon arrival. \nGiraffe Feeding: Purchase tickets at the exhibit inside the Savanna Station pavilion. Everyone entering the giraffe feeding deck must purchase a feeding ticket\, except for babies ages 0–2. Children under 13 must be accompanied by an adult. \nCommunity Passes are not accepted for this event. \n  \nStart your day with a truly special experience while the Zoo is at its most tranquil—just one of the many perks of being a Zoo member!\n  \n2026 Member Mornings PLUS Dates:\n\n\nWednesday\, March 4th: 9 AM\nWednesday\, April 1st: 9 AM\nWednesday\, May 6th: 9 AM\nWednesday\, June 3rd: 9 AM\nWednesday\, July 1st: 9 AM\nWednesday\, August 5th: 9 AM\nWednesday\, September 2nd: 9 AM\nWednesday\, October 7th: 9 AM\nWednesday\, November 4th: 11 AM\nWednesday\, December 2nd: 11 AM
URL:https://elmwoodparkzoo.org/event/member-mornings/2026-05-06/
CATEGORIES:General Events
ATTACH;FMTTYPE=image/png:https://elmwoodparkzoo.org/wp-content/uploads/2020/01/1920x1080MemberMorningsPLUS.png
END:VEVENT
BEGIN:VEVENT
DTSTART;TZID=America/New_York:20260603T090000
DTEND;TZID=America/New_York:20260603T100000
DTSTAMP:20260419T190737
CREATED:20200124T145957Z
LAST-MODIFIED:20260320T033516Z
UID:47587-1780477200-1780480800@elmwoodparkzoo.org
SUMMARY:Member Mornings PLUS
DESCRIPTION:Rise and shine!\n\nOn the first Wednesday of each month\, members can enjoy early admission to the Zoo with a special early-morning giraffe feeding. See below for details on Member Morning Plus.\n  \nMember Morning PLUS Highlights:\nGiraffe Feeding: Depending on the time of year\, participate in a giraffe feeding during your visit. Tickets are $4 per person and are available for purchase at the exhibit inside the Savanna Station pavilion. Giraffe feedings are available only when temperatures are above 55°F. \nBring a Guest for Free: All membership levels include one additional guest for Member Mornings Plus—free of charge! \n  \nImportant Details:\nNo Pre-Registration Required: Simply present a valid photo ID and your current membership card upon arrival. \nGiraffe Feeding: Purchase tickets at the exhibit inside the Savanna Station pavilion. Everyone entering the giraffe feeding deck must purchase a feeding ticket\, except for babies ages 0–2. Children under 13 must be accompanied by an adult. \nCommunity Passes are not accepted for this event. \n  \nStart your day with a truly special experience while the Zoo is at its most tranquil—just one of the many perks of being a Zoo member!\n  \n2026 Member Mornings PLUS Dates:\n\n\nWednesday\, March 4th: 9 AM\nWednesday\, April 1st: 9 AM\nWednesday\, May 6th: 9 AM\nWednesday\, June 3rd: 9 AM\nWednesday\, July 1st: 9 AM\nWednesday\, August 5th: 9 AM\nWednesday\, September 2nd: 9 AM\nWednesday\, October 7th: 9 AM\nWednesday\, November 4th: 11 AM\nWednesday\, December 2nd: 11 AM
URL:https://elmwoodparkzoo.org/event/member-mornings/2026-06-03/
CATEGORIES:General Events
ATTACH;FMTTYPE=image/png:https://elmwoodparkzoo.org/wp-content/uploads/2020/01/1920x1080MemberMorningsPLUS.png
END:VEVENT
BEGIN:VEVENT
DTSTART;TZID=America/New_York:20260701T090000
DTEND;TZID=America/New_York:20260701T100000
DTSTAMP:20260419T190737
CREATED:20200124T145957Z
LAST-MODIFIED:20260320T033517Z
UID:47588-1782896400-1782900000@elmwoodparkzoo.org
SUMMARY:Member Mornings PLUS
DESCRIPTION:Rise and shine!\n\nOn the first Wednesday of each month\, members can enjoy early admission to the Zoo with a special early-morning giraffe feeding. See below for details on Member Morning Plus.\n  \nMember Morning PLUS Highlights:\nGiraffe Feeding: Depending on the time of year\, participate in a giraffe feeding during your visit. Tickets are $4 per person and are available for purchase at the exhibit inside the Savanna Station pavilion. Giraffe feedings are available only when temperatures are above 55°F. \nBring a Guest for Free: All membership levels include one additional guest for Member Mornings Plus—free of charge! \n  \nImportant Details:\nNo Pre-Registration Required: Simply present a valid photo ID and your current membership card upon arrival. \nGiraffe Feeding: Purchase tickets at the exhibit inside the Savanna Station pavilion. Everyone entering the giraffe feeding deck must purchase a feeding ticket\, except for babies ages 0–2. Children under 13 must be accompanied by an adult. \nCommunity Passes are not accepted for this event. \n  \nStart your day with a truly special experience while the Zoo is at its most tranquil—just one of the many perks of being a Zoo member!\n  \n2026 Member Mornings PLUS Dates:\n\n\nWednesday\, March 4th: 9 AM\nWednesday\, April 1st: 9 AM\nWednesday\, May 6th: 9 AM\nWednesday\, June 3rd: 9 AM\nWednesday\, July 1st: 9 AM\nWednesday\, August 5th: 9 AM\nWednesday\, September 2nd: 9 AM\nWednesday\, October 7th: 9 AM\nWednesday\, November 4th: 11 AM\nWednesday\, December 2nd: 11 AM
URL:https://elmwoodparkzoo.org/event/member-mornings/2026-07-01/
CATEGORIES:General Events
ATTACH;FMTTYPE=image/png:https://elmwoodparkzoo.org/wp-content/uploads/2020/01/1920x1080MemberMorningsPLUS.png
END:VEVENT
BEGIN:VEVENT
DTSTART;TZID=America/New_York:20260805T090000
DTEND;TZID=America/New_York:20260805T100000
DTSTAMP:20260419T190737
CREATED:20200124T145957Z
LAST-MODIFIED:20260320T033518Z
UID:47589-1785920400-1785924000@elmwoodparkzoo.org
SUMMARY:Member Mornings PLUS
DESCRIPTION:Rise and shine!\n\nOn the first Wednesday of each month\, members can enjoy early admission to the Zoo with a special early-morning giraffe feeding. See below for details on Member Morning Plus.\n  \nMember Morning PLUS Highlights:\nGiraffe Feeding: Depending on the time of year\, participate in a giraffe feeding during your visit. Tickets are $4 per person and are available for purchase at the exhibit inside the Savanna Station pavilion. Giraffe feedings are available only when temperatures are above 55°F. \nBring a Guest for Free: All membership levels include one additional guest for Member Mornings Plus—free of charge! \n  \nImportant Details:\nNo Pre-Registration Required: Simply present a valid photo ID and your current membership card upon arrival. \nGiraffe Feeding: Purchase tickets at the exhibit inside the Savanna Station pavilion. Everyone entering the giraffe feeding deck must purchase a feeding ticket\, except for babies ages 0–2. Children under 13 must be accompanied by an adult. \nCommunity Passes are not accepted for this event. \n  \nStart your day with a truly special experience while the Zoo is at its most tranquil—just one of the many perks of being a Zoo member!\n  \n2026 Member Mornings PLUS Dates:\n\n\nWednesday\, March 4th: 9 AM\nWednesday\, April 1st: 9 AM\nWednesday\, May 6th: 9 AM\nWednesday\, June 3rd: 9 AM\nWednesday\, July 1st: 9 AM\nWednesday\, August 5th: 9 AM\nWednesday\, September 2nd: 9 AM\nWednesday\, October 7th: 9 AM\nWednesday\, November 4th: 11 AM\nWednesday\, December 2nd: 11 AM
URL:https://elmwoodparkzoo.org/event/member-mornings/2026-08-05/
CATEGORIES:General Events
ATTACH;FMTTYPE=image/png:https://elmwoodparkzoo.org/wp-content/uploads/2020/01/1920x1080MemberMorningsPLUS.png
END:VEVENT
BEGIN:VEVENT
DTSTART;TZID=America/New_York:20260902T090000
DTEND;TZID=America/New_York:20260902T100000
DTSTAMP:20260419T190737
CREATED:20200124T145957Z
LAST-MODIFIED:20260320T033519Z
UID:47590-1788339600-1788343200@elmwoodparkzoo.org
SUMMARY:Member Mornings PLUS
DESCRIPTION:Rise and shine!\n\nOn the first Wednesday of each month\, members can enjoy early admission to the Zoo with a special early-morning giraffe feeding. See below for details on Member Morning Plus.\n  \nMember Morning PLUS Highlights:\nGiraffe Feeding: Depending on the time of year\, participate in a giraffe feeding during your visit. Tickets are $4 per person and are available for purchase at the exhibit inside the Savanna Station pavilion. Giraffe feedings are available only when temperatures are above 55°F. \nBring a Guest for Free: All membership levels include one additional guest for Member Mornings Plus—free of charge! \n  \nImportant Details:\nNo Pre-Registration Required: Simply present a valid photo ID and your current membership card upon arrival. \nGiraffe Feeding: Purchase tickets at the exhibit inside the Savanna Station pavilion. Everyone entering the giraffe feeding deck must purchase a feeding ticket\, except for babies ages 0–2. Children under 13 must be accompanied by an adult. \nCommunity Passes are not accepted for this event. \n  \nStart your day with a truly special experience while the Zoo is at its most tranquil—just one of the many perks of being a Zoo member!\n  \n2026 Member Mornings PLUS Dates:\n\n\nWednesday\, March 4th: 9 AM\nWednesday\, April 1st: 9 AM\nWednesday\, May 6th: 9 AM\nWednesday\, June 3rd: 9 AM\nWednesday\, July 1st: 9 AM\nWednesday\, August 5th: 9 AM\nWednesday\, September 2nd: 9 AM\nWednesday\, October 7th: 9 AM\nWednesday\, November 4th: 11 AM\nWednesday\, December 2nd: 11 AM
URL:https://elmwoodparkzoo.org/event/member-mornings/2026-09-02/
CATEGORIES:General Events
ATTACH;FMTTYPE=image/png:https://elmwoodparkzoo.org/wp-content/uploads/2020/01/1920x1080MemberMorningsPLUS.png
END:VEVENT
BEGIN:VEVENT
DTSTART;TZID=America/New_York:20261104T110000
DTEND;TZID=America/New_York:20261104T120000
DTSTAMP:20260419T190737
CREATED:20200124T145957Z
LAST-MODIFIED:20260320T033520Z
UID:47592-1793790000-1793793600@elmwoodparkzoo.org
SUMMARY:Member Mornings PLUS
DESCRIPTION:Rise and shine!\n\nOn the first Wednesday of each month\, members can enjoy early admission to the Zoo with a special early-morning giraffe feeding. See below for details on Member Morning Plus.\n  \nMember Morning PLUS Highlights:\nGiraffe Feeding: Depending on the time of year\, participate in a giraffe feeding during your visit. Tickets are $4 per person and are available for purchase at the exhibit inside the Savanna Station pavilion. Giraffe feedings are available only when temperatures are above 55°F. \nBring a Guest for Free: All membership levels include one additional guest for Member Mornings Plus—free of charge! \n  \nImportant Details:\nNo Pre-Registration Required: Simply present a valid photo ID and your current membership card upon arrival. \nGiraffe Feeding: Purchase tickets at the exhibit inside the Savanna Station pavilion. Everyone entering the giraffe feeding deck must purchase a feeding ticket\, except for babies ages 0–2. Children under 13 must be accompanied by an adult. \nCommunity Passes are not accepted for this event. \n  \nStart your day with a truly special experience while the Zoo is at its most tranquil—just one of the many perks of being a Zoo member!\n  \n2026 Member Mornings PLUS Dates:\n\n\nWednesday\, March 4th: 9 AM\nWednesday\, April 1st: 9 AM\nWednesday\, May 6th: 9 AM\nWednesday\, June 3rd: 9 AM\nWednesday\, July 1st: 9 AM\nWednesday\, August 5th: 9 AM\nWednesday\, September 2nd: 9 AM\nWednesday\, October 7th: 9 AM\nWednesday\, November 4th: 11 AM\nWednesday\, December 2nd: 11 AM
URL:https://elmwoodparkzoo.org/event/member-mornings/2026-11-04/
CATEGORIES:General Events
ATTACH;FMTTYPE=image/png:https://elmwoodparkzoo.org/wp-content/uploads/2020/01/1920x1080MemberMorningsPLUS.png
END:VEVENT
BEGIN:VEVENT
DTSTART;TZID=America/New_York:20261202T110000
DTEND;TZID=America/New_York:20261202T120000
DTSTAMP:20260419T190737
CREATED:20200124T145957Z
LAST-MODIFIED:20260320T033521Z
UID:47593-1796209200-1796212800@elmwoodparkzoo.org
SUMMARY:Member Mornings PLUS
DESCRIPTION:Rise and shine!\n\nOn the first Wednesday of each month\, members can enjoy early admission to the Zoo with a special early-morning giraffe feeding. See below for details on Member Morning Plus.\n  \nMember Morning PLUS Highlights:\nGiraffe Feeding: Depending on the time of year\, participate in a giraffe feeding during your visit. Tickets are $4 per person and are available for purchase at the exhibit inside the Savanna Station pavilion. Giraffe feedings are available only when temperatures are above 55°F. \nBring a Guest for Free: All membership levels include one additional guest for Member Mornings Plus—free of charge! \n  \nImportant Details:\nNo Pre-Registration Required: Simply present a valid photo ID and your current membership card upon arrival. \nGiraffe Feeding: Purchase tickets at the exhibit inside the Savanna Station pavilion. Everyone entering the giraffe feeding deck must purchase a feeding ticket\, except for babies ages 0–2. Children under 13 must be accompanied by an adult. \nCommunity Passes are not accepted for this event. \n  \nStart your day with a truly special experience while the Zoo is at its most tranquil—just one of the many perks of being a Zoo member!\n  \n2026 Member Mornings PLUS Dates:\n\n\nWednesday\, March 4th: 9 AM\nWednesday\, April 1st: 9 AM\nWednesday\, May 6th: 9 AM\nWednesday\, June 3rd: 9 AM\nWednesday\, July 1st: 9 AM\nWednesday\, August 5th: 9 AM\nWednesday\, September 2nd: 9 AM\nWednesday\, October 7th: 9 AM\nWednesday\, November 4th: 11 AM\nWednesday\, December 2nd: 11 AM
URL:https://elmwoodparkzoo.org/event/member-mornings/2026-12-02/
CATEGORIES:General Events
ATTACH;FMTTYPE=image/png:https://elmwoodparkzoo.org/wp-content/uploads/2020/01/1920x1080MemberMorningsPLUS.png
END:VEVENT
END:VCALENDAR